BEGIN:VCALENDAR
VERSION:2.0
PRODID:-//Estero Historical Society - ECPv6.15.20//NONSGML v1.0//EN
CALSCALE:GREGORIAN
METHOD:PUBLISH
X-ORIGINAL-URL:https://esterohistoricalsociety.com
X-WR-CALDESC:Events for Estero Historical Society
REFRESH-INTERVAL;VALUE=DURATION:PT1H
X-Robots-Tag:noindex
X-PUBLISHED-TTL:PT1H
BEGIN:VTIMEZONE
TZID:America/New_York
BEGIN:DAYLIGHT
TZOFFSETFROM:-0500
TZOFFSETTO:-0400
TZNAME:EDT
DTSTART:20240310T070000
END:DAYLIGHT
BEGIN:STANDARD
TZOFFSETFROM:-0400
TZOFFSETTO:-0500
TZNAME:EST
DTSTART:20241103T060000
END:STANDARD
BEGIN:DAYLIGHT
TZOFFSETFROM:-0500
TZOFFSETTO:-0400
TZNAME:EDT
DTSTART:20250309T070000
END:DAYLIGHT
BEGIN:STANDARD
TZOFFSETFROM:-0400
TZOFFSETTO:-0500
TZNAME:EST
DTSTART:20251102T060000
END:STANDARD
BEGIN:DAYLIGHT
TZOFFSETFROM:-0500
TZOFFSETTO:-0400
TZNAME:EDT
DTSTART:20260308T070000
END:DAYLIGHT
BEGIN:STANDARD
TZOFFSETFROM:-0400
TZOFFSETTO:-0500
TZNAME:EST
DTSTART:20261101T060000
END:STANDARD
END:VTIMEZONE
BEGIN:VEVENT
DTSTART;TZID=America/New_York:20251018T093000
DTEND;TZID=America/New_York:20251018T093000
DTSTAMP:20260422T063913
CREATED:20250815T123410Z
LAST-MODIFIED:20250925T151828Z
UID:19171-1760779800-1760779800@esterohistoricalsociety.com
SUMMARY:EHS Speaker Series: Haunted Shores: Witchcraft and Folklore Along Florida's Coast
DESCRIPTION:Just in time for Halloween\, join Melissa Mari\, Adjunct Professor and Complete Student Navigator at Florida Gulf Coast University\, for a spellbinding talk on witches and witchcraft through the ages. From myth and folklore to historical fact\, Melissa will explore the cultural\, social\, and even political forces that shaped these enduring legends.\n \nContinental breakfast is included.\n\n				\n			\n				\n				\n				\n				\n				\n				\n				\n					\n\n	\n			\n			\n									\n						Membership\n						\n							Choose an optionMemberNon-MemberClear						\n					\n							\n		\n		\n		\n		\n			\n	\n			 \n				 \n				 \n			 \n			\n			\n	\n		EHS Speaker Series: Haunted Shores: Witchcraft and Folklore Along Florida's Coast quantity\n	\n	\n\n	Add to cart
URL:https://esterohistoricalsociety.com/event/oct2025/
LOCATION:The Villages at Country Creek Clubhouse\, 21180 Country Creek Drive\, Estero\, FL\, 33928\, United States
CATEGORIES:Lecture
ATTACH;FMTTYPE=image/jpeg:https://esterohistoricalsociety.com/wp-content/uploads/2025/08/sPEAKER-oCT-2025-revb.jpg
END:VEVENT
END:VCALENDAR